BEGIN:VCALENDAR
VERSION:2.0
PRODID:-//ISI BALI - ECPv6.15.20//NONSGML v1.0//EN
CALSCALE:GREGORIAN
METHOD:PUBLISH
X-WR-CALNAME:ISI BALI
X-ORIGINAL-URL:https://isibali.ac.id
X-WR-CALDESC:Events for ISI BALI
REFRESH-INTERVAL;VALUE=DURATION:PT1H
X-Robots-Tag:noindex
X-PUBLISHED-TTL:PT1H
BEGIN:VTIMEZONE
TZID:Asia/Makassar
BEGIN:STANDARD
TZOFFSETFROM:+0800
TZOFFSETTO:+0800
TZNAME:WITA
DTSTART:20140101T000000
END:STANDARD
END:VTIMEZONE
BEGIN:VEVENT
DTSTART;VALUE=DATE:20160522
DTEND;VALUE=DATE:20160523
DTSTAMP:20260420T104752
CREATED:20160106T175751Z
LAST-MODIFIED:20160106T175751Z
UID:22034-1463875200-1463961599@isibali.ac.id
SUMMARY:Hari Raya Waisak
DESCRIPTION:Hari Raya Waisak
URL:https://isibali.ac.id/event/hari-raya-waisak/
END:VEVENT
BEGIN:VEVENT
DTSTART;VALUE=DATE:20160506
DTEND;VALUE=DATE:20160507
DTSTAMP:20260420T104752
CREATED:20160106T175714Z
LAST-MODIFIED:20160106T175714Z
UID:22033-1462492800-1462579199@isibali.ac.id
SUMMARY:Isra Mikraj Nabi Muhammad SAW
DESCRIPTION:Isra Mikraj Nabi Muhammad SAW
URL:https://isibali.ac.id/event/isra-mikraj-nabi-muhammad-saw-2/
END:VEVENT
BEGIN:VEVENT
DTSTART;VALUE=DATE:20160505
DTEND;VALUE=DATE:20160506
DTSTAMP:20260420T104752
CREATED:20160106T175634Z
LAST-MODIFIED:20160106T175634Z
UID:22032-1462406400-1462492799@isibali.ac.id
SUMMARY:Kenaikan Yesus Kristus
DESCRIPTION:Kenaikan Yesus Kristus
URL:https://isibali.ac.id/event/kenaikan-yesus-kristus-2/
END:VEVENT
BEGIN:VEVENT
DTSTART;VALUE=DATE:20160501
DTEND;VALUE=DATE:20160502
DTSTAMP:20260420T104752
CREATED:20160106T175559Z
LAST-MODIFIED:20160106T175559Z
UID:22031-1462060800-1462147199@isibali.ac.id
SUMMARY:Hari  Buruh Internasional
DESCRIPTION:Hari  Buruh Internasional
URL:https://isibali.ac.id/event/hari-buruh-internasional/
END:VEVENT
BEGIN:VEVENT
DTSTART;VALUE=DATE:20160325
DTEND;VALUE=DATE:20160326
DTSTAMP:20260420T104752
CREATED:20160106T175512Z
LAST-MODIFIED:20160106T175512Z
UID:22030-1458864000-1458950399@isibali.ac.id
SUMMARY:Wafat Isa Al-Masih
DESCRIPTION:Wafat Isa Al-Masih
URL:https://isibali.ac.id/event/wafat-isa-al-masih/
END:VEVENT
BEGIN:VEVENT
DTSTART;VALUE=DATE:20160310
DTEND;VALUE=DATE:20160311
DTSTAMP:20260420T104752
CREATED:20160106T184937Z
LAST-MODIFIED:20160106T184937Z
UID:22057-1457568000-1457654399@isibali.ac.id
SUMMARY:Hari Raya Suci Ngembak Geni
DESCRIPTION:Hari Raya Suci Ngembak Geni
URL:https://isibali.ac.id/event/hari-raya-suci-ngembak-geni-2/
END:VEVENT
BEGIN:VEVENT
DTSTART;VALUE=DATE:20160309
DTEND;VALUE=DATE:20160310
DTSTAMP:20260420T104752
CREATED:20160106T181710Z
LAST-MODIFIED:20160106T181710Z
UID:22056-1457481600-1457567999@isibali.ac.id
SUMMARY:Hari Raya Suci Nyepi Tahun Caka 1938
DESCRIPTION:Hari Raya Suci Nyepi Tahun Caka 1938
URL:https://isibali.ac.id/event/hari-raya-suci-nyepi-tahun-caka-1938/
END:VEVENT
BEGIN:VEVENT
DTSTART;VALUE=DATE:20160309
DTEND;VALUE=DATE:20160310
DTSTAMP:20260420T104752
CREATED:20160106T175433Z
LAST-MODIFIED:20160106T175433Z
UID:22029-1457481600-1457567999@isibali.ac.id
SUMMARY:Hari Raya Nyepi Tahun Baru Caka 1938
DESCRIPTION:Hari Raya Nyepi Tahun Baru Caka 1938
URL:https://isibali.ac.id/event/hari-raya-nyepi-tahun-baru-caka-1938/
END:VEVENT
BEGIN:VEVENT
DTSTART;VALUE=DATE:20160308
DTEND;VALUE=DATE:20160309
DTSTAMP:20260420T104752
CREATED:20160106T181603Z
LAST-MODIFIED:20160106T181603Z
UID:22055-1457395200-1457481599@isibali.ac.id
SUMMARY:Hari Raya Suci Tawur Agung Kesanga
DESCRIPTION:Hari Raya Suci Tawur Agung Kesanga
URL:https://isibali.ac.id/event/hari-raya-suci-tawur-agung-kesanga-2/
END:VEVENT
BEGIN:VEVENT
DTSTART;VALUE=DATE:20160221
DTEND;VALUE=DATE:20160222
DTSTAMP:20260420T104752
CREATED:20160106T181520Z
LAST-MODIFIED:20160106T181520Z
UID:22054-1456012800-1456099199@isibali.ac.id
SUMMARY:Hari Raya Suci Umanis Kuningan I
DESCRIPTION:Hari Raya Suci Umanis Kuningan I
URL:https://isibali.ac.id/event/hari-raya-suci-umanis-kuningan-i-2/
END:VEVENT
BEGIN:VEVENT
DTSTART;VALUE=DATE:20160220
DTEND;VALUE=DATE:20160221
DTSTAMP:20260420T104752
CREATED:20160106T181442Z
LAST-MODIFIED:20160106T181442Z
UID:22053-1455926400-1456012799@isibali.ac.id
SUMMARY:Hari Raya Suci Kuningan I
DESCRIPTION:Hari Raya Suci Kuningan I
URL:https://isibali.ac.id/event/hari-raya-suci-kuningan-i-2/
END:VEVENT
BEGIN:VEVENT
DTSTART;VALUE=DATE:20160219
DTEND;VALUE=DATE:20160220
DTSTAMP:20260420T104752
CREATED:20160106T181402Z
LAST-MODIFIED:20160106T181402Z
UID:22051-1455840000-1455926399@isibali.ac.id
SUMMARY:Hari Raya Suci Penampahan Kuningan I
DESCRIPTION:Hari Raya Suci Penampahan Kuningan I
URL:https://isibali.ac.id/event/hari-raya-suci-penampahan-kuningan-i-2/
END:VEVENT
BEGIN:VEVENT
DTSTART;VALUE=DATE:20160211
DTEND;VALUE=DATE:20160212
DTSTAMP:20260420T104752
CREATED:20160106T181323Z
LAST-MODIFIED:20160106T181323Z
UID:22050-1455148800-1455235199@isibali.ac.id
SUMMARY:Hari Raya Suci Umanis Galungan I
DESCRIPTION:Hari Raya Suci Umanis Galungan I
URL:https://isibali.ac.id/event/hari-raya-suci-umanis-galungan-i-2/
END:VEVENT
BEGIN:VEVENT
DTSTART;VALUE=DATE:20160210
DTEND;VALUE=DATE:20160211
DTSTAMP:20260420T104752
CREATED:20160106T180827Z
LAST-MODIFIED:20160106T180827Z
UID:22049-1455062400-1455148799@isibali.ac.id
SUMMARY:Hari Raya Suci Galungan I
DESCRIPTION:Hari Raya Suci Galungan I
URL:https://isibali.ac.id/event/hari-raya-suci-galungan-i-2/
END:VEVENT
BEGIN:VEVENT
DTSTART;VALUE=DATE:20160209
DTEND;VALUE=DATE:20160210
DTSTAMP:20260420T104752
CREATED:20160106T180753Z
LAST-MODIFIED:20160106T180753Z
UID:22048-1454976000-1455062399@isibali.ac.id
SUMMARY:Hari Raya Suci Penampahan Galungan I
DESCRIPTION:Hari Raya Suci Penampahan Galungan I
URL:https://isibali.ac.id/event/hari-raya-suci-penampahan-galungan-i-2/
END:VEVENT
BEGIN:VEVENT
DTSTART;VALUE=DATE:20160208
DTEND;VALUE=DATE:20160209
DTSTAMP:20260420T104752
CREATED:20160106T175351Z
LAST-MODIFIED:20160106T175351Z
UID:22028-1454889600-1454975999@isibali.ac.id
SUMMARY:Tahun Baru Imlek 2567 Kongzili
DESCRIPTION:Tahun Baru Imlek 2567 Kongzili
URL:https://isibali.ac.id/event/tahun-baru-imlek-2567-kongzili/
END:VEVENT
BEGIN:VEVENT
DTSTART;VALUE=DATE:20160109
DTEND;VALUE=DATE:20160110
DTSTAMP:20260420T104752
CREATED:20160106T180708Z
LAST-MODIFIED:20160106T180708Z
UID:22047-1452297600-1452383999@isibali.ac.id
SUMMARY:Hari Raya Suci Siwa Ratri
DESCRIPTION:Hari Raya Suci Siwa Ratri
URL:https://isibali.ac.id/event/hari-raya-suci-siwa-ratri-3/
END:VEVENT
BEGIN:VEVENT
DTSTART;VALUE=DATE:20160108
DTEND;VALUE=DATE:20160109
DTSTAMP:20260420T104752
CREATED:20160106T180653Z
LAST-MODIFIED:20160106T180653Z
UID:22046-1452211200-1452297599@isibali.ac.id
SUMMARY:Hari Raya Suci Siwa Ratri
DESCRIPTION:Hari Raya Suci Siwa Ratri
URL:https://isibali.ac.id/event/hari-raya-suci-siwa-ratri-2/
END:VEVENT
BEGIN:VEVENT
DTSTART;VALUE=DATE:20160101
DTEND;VALUE=DATE:20160102
DTSTAMP:20260420T104752
CREATED:20160106T175239Z
LAST-MODIFIED:20160106T175239Z
UID:22027-1451606400-1451692799@isibali.ac.id
SUMMARY:Tahun Baru Masehi 2016
DESCRIPTION:Tahun Baru Masehi 2016
URL:https://isibali.ac.id/event/tahun-baru-masehi-2016/
END:VEVENT
BEGIN:VEVENT
DTSTART;VALUE=DATE:20151225
DTEND;VALUE=DATE:20151226
DTSTAMP:20260420T104752
CREATED:20141125T180546Z
LAST-MODIFIED:20141125T180546Z
UID:20127-1451001600-1451087999@isibali.ac.id
SUMMARY:Hari Raya Natal
DESCRIPTION:
URL:https://isibali.ac.id/event/hari-raya-natal/
END:VEVENT
BEGIN:VEVENT
DTSTART;VALUE=DATE:20151224
DTEND;VALUE=DATE:20151225
DTSTAMP:20260420T104752
CREATED:20141125T181420Z
LAST-MODIFIED:20141125T181420Z
UID:20131-1450915200-1451001599@isibali.ac.id
SUMMARY:Cuti Bersama
DESCRIPTION:Cuti Bersama Dalam Rangka Hari Raya Natal
URL:https://isibali.ac.id/event/cuti-bersama-4/
END:VEVENT
BEGIN:VEVENT
DTSTART;VALUE=DATE:20151202
DTEND;VALUE=DATE:20151203
DTSTAMP:20260420T104752
CREATED:20141125T185846Z
LAST-MODIFIED:20141125T185846Z
UID:20145-1449014400-1449100799@isibali.ac.id
SUMMARY:Hari Raya Suci Pagerwesi II
DESCRIPTION:
URL:https://isibali.ac.id/event/hari-raya-suci-pagerwesi-ii/
END:VEVENT
BEGIN:VEVENT
DTSTART;VALUE=DATE:20151128
DTEND;VALUE=DATE:20151129
DTSTAMP:20260420T104752
CREATED:20141125T185530Z
LAST-MODIFIED:20141125T185530Z
UID:20144-1448668800-1448755199@isibali.ac.id
SUMMARY:Hari Raya Suci Saraswati II
DESCRIPTION:
URL:https://isibali.ac.id/event/hari-raya-suci-saraswati-ii/
END:VEVENT
BEGIN:VEVENT
DTSTART;VALUE=DATE:20151014
DTEND;VALUE=DATE:20151015
DTSTAMP:20260420T104752
CREATED:20141125T180322Z
LAST-MODIFIED:20141125T180322Z
UID:20124-1444780800-1444867199@isibali.ac.id
SUMMARY:Tahun Baru 1437 Hijriah
DESCRIPTION:
URL:https://isibali.ac.id/event/tahun-baru-1437-hijriah/
END:VEVENT
BEGIN:VEVENT
DTSTART;VALUE=DATE:20150924
DTEND;VALUE=DATE:20150925
DTSTAMP:20260420T104752
CREATED:20141125T175753Z
LAST-MODIFIED:20141125T175753Z
UID:20123-1443052800-1443139199@isibali.ac.id
SUMMARY:Hari Raya Idul Adha 1436 Hijriah
DESCRIPTION:
URL:https://isibali.ac.id/event/hari-raya-idul-adha-1436-hijriah/
END:VEVENT
BEGIN:VEVENT
DTSTART;VALUE=DATE:20150817
DTEND;VALUE=DATE:20150818
DTSTAMP:20260420T104752
CREATED:20141125T175557Z
LAST-MODIFIED:20141125T175557Z
UID:20122-1439769600-1439855999@isibali.ac.id
SUMMARY:Hari Kemerdekaan RI
DESCRIPTION:
URL:https://isibali.ac.id/event/hari-kemerdekaan-ri/
END:VEVENT
BEGIN:VEVENT
DTSTART;VALUE=DATE:20150726
DTEND;VALUE=DATE:20150727
DTSTAMP:20260420T104752
CREATED:20141125T185240Z
LAST-MODIFIED:20141125T185240Z
UID:20143-1437868800-1437955199@isibali.ac.id
SUMMARY:Hari Raya Suci Umanis Kuningan I
DESCRIPTION:
URL:https://isibali.ac.id/event/hari-raya-suci-umanis-kuningan-i/
END:VEVENT
BEGIN:VEVENT
DTSTART;VALUE=DATE:20150725
DTEND;VALUE=DATE:20150726
DTSTAMP:20260420T104752
CREATED:20141125T185100Z
LAST-MODIFIED:20141125T185100Z
UID:20142-1437782400-1437868799@isibali.ac.id
SUMMARY:Hari Raya Suci Kuningan I
DESCRIPTION:
URL:https://isibali.ac.id/event/hari-raya-suci-kuningan-i/
END:VEVENT
BEGIN:VEVENT
DTSTART;VALUE=DATE:20150724
DTEND;VALUE=DATE:20150725
DTSTAMP:20260420T104752
CREATED:20141125T184928Z
LAST-MODIFIED:20141125T184928Z
UID:20141-1437696000-1437782399@isibali.ac.id
SUMMARY:Hari Raya Suci Penampahan Kuningan I
DESCRIPTION:
URL:https://isibali.ac.id/event/hari-raya-suci-penampahan-kuningan-i/
END:VEVENT
BEGIN:VEVENT
DTSTART;VALUE=DATE:20150721
DTEND;VALUE=DATE:20150722
DTSTAMP:20260420T104752
CREATED:20141125T181223Z
LAST-MODIFIED:20141125T181223Z
UID:20130-1437436800-1437523199@isibali.ac.id
SUMMARY:Cuti Bersama
DESCRIPTION:Cuti Bersama Dalam Rangka Hari Raya Idul Fitri 1436 Hijriah
URL:https://isibali.ac.id/event/cuti-bersama-3/
END:VEVENT
END:VCALENDAR